BEGIN:VCALENDAR
VERSION:2.0
PRODID:-//Florian König - Kompetent. Bodenständig. Bürgernah. - ECPv6.15.13.1//NONSGML v1.0//EN
CALSCALE:GREGORIAN
METHOD:PUBLISH
X-ORIGINAL-URL:https://florian-koenig.info
X-WR-CALDESC:Veranstaltungen für Florian König - Kompetent. Bodenständig. Bürgernah.
REFRESH-INTERVAL;VALUE=DURATION:PT1H
X-Robots-Tag:noindex
X-PUBLISHED-TTL:PT1H
BEGIN:VTIMEZONE
TZID:Europe/Berlin
BEGIN:DAYLIGHT
TZOFFSETFROM:+0100
TZOFFSETTO:+0200
TZNAME:CEST
DTSTART:20210328T010000
END:DAYLIGHT
BEGIN:STANDARD
TZOFFSETFROM:+0200
TZOFFSETTO:+0100
TZNAME:CET
DTSTART:20211031T010000
END:STANDARD
BEGIN:DAYLIGHT
TZOFFSETFROM:+0100
TZOFFSETTO:+0200
TZNAME:CEST
DTSTART:20220327T010000
END:DAYLIGHT
BEGIN:STANDARD
TZOFFSETFROM:+0200
TZOFFSETTO:+0100
TZNAME:CET
DTSTART:20221030T010000
END:STANDARD
BEGIN:DAYLIGHT
TZOFFSETFROM:+0100
TZOFFSETTO:+0200
TZNAME:CEST
DTSTART:20230326T010000
END:DAYLIGHT
BEGIN:STANDARD
TZOFFSETFROM:+0200
TZOFFSETTO:+0100
TZNAME:CET
DTSTART:20231029T010000
END:STANDARD
END:VTIMEZONE
BEGIN:VEVENT
DTSTART;TZID=Europe/Berlin:20221126T140000
DTEND;TZID=Europe/Berlin:20221126T160000
DTSTAMP:20260425T021806
CREATED:20221114T142206Z
LAST-MODIFIED:20221114T142208Z
UID:2141-1669471200-1669478400@florian-koenig.info
SUMMARY:Kaffee. Kuchen. König.
DESCRIPTION:
URL:https://florian-koenig.info/event/kaffee-kuchen-koenig-5/
LOCATION:Schloss Neckarhausen\, Hauptstraße 389\, Edingen-Neckarhausen\, 68535\, Deutschland
END:VEVENT
BEGIN:VEVENT
DTSTART;TZID=Europe/Berlin:20221119T140000
DTEND;TZID=Europe/Berlin:20221119T160000
DTSTAMP:20260425T021806
CREATED:20221114T142000Z
LAST-MODIFIED:20221114T142002Z
UID:2139-1668866400-1668873600@florian-koenig.info
SUMMARY:Kaffee. Kuchen. König.
DESCRIPTION:
URL:https://florian-koenig.info/event/kaffee-kuchen-koenig-4/
LOCATION:Messplatz\, Messplatz\, Edingen\, Edingen-Neckarhausen\, 68535\, Deutschland
END:VEVENT
BEGIN:VEVENT
DTSTART;TZID=Europe/Berlin:20221030T140000
DTEND;TZID=Europe/Berlin:20221030T160000
DTSTAMP:20260425T021806
CREATED:20221030T091402Z
LAST-MODIFIED:20221030T091403Z
UID:2038-1667138400-1667145600@florian-koenig.info
SUMMARY:Kaffee. Kuchen. König.
DESCRIPTION:
URL:https://florian-koenig.info/event/kaffee-kuchen-koenig-3/
LOCATION:Messplatz\, Messplatz\, Edingen\, Edingen-Neckarhausen\, 68535\, Deutschland
ATTACH;FMTTYPE=image/jpeg:https://florian-koenig.info/wp-content/uploads/2022/09/WhatsApp-Image-2022-09-17-at-18.45.22-3-1-e1663657087689.jpeg
END:VEVENT
BEGIN:VEVENT
DTSTART;TZID=Europe/Berlin:20221026T190000
DTEND;TZID=Europe/Berlin:20221026T210000
DTSTAMP:20260425T021806
CREATED:20220911T091546Z
LAST-MODIFIED:20220911T093935Z
UID:1746-1666810800-1666818000@florian-koenig.info
SUMMARY:Kandidatenvorstellung Edingen
DESCRIPTION:
URL:https://florian-koenig.info/event/kandidatenvorstellung-edingen/
LOCATION:Pestalozzi-Halle\, Robert-Walter-Straße\, Edingen-Neckarhausen\, Baden-Württemberg\, 68535\, Deutschland
CATEGORIES:Wahlkampfveranstaltung
ATTACH;FMTTYPE=image/jpeg:https://florian-koenig.info/wp-content/uploads/2022/09/csm_Pestalozzi-Schule_Edingen_cd7df735f4.jpg
END:VEVENT
BEGIN:VEVENT
DTSTART;TZID=Europe/Berlin:20221025T190000
DTEND;TZID=Europe/Berlin:20221025T210000
DTSTAMP:20260425T021806
CREATED:20220911T091438Z
LAST-MODIFIED:20220911T095243Z
UID:1744-1666724400-1666731600@florian-koenig.info
SUMMARY:Kandidatenvorstellung Neckarhausen
DESCRIPTION:
URL:https://florian-koenig.info/event/kandidatenvorstellung-neckarhausen/
LOCATION:Eduard-Schläfer-Halle\, Hauptstraße 356\, Edingen-Neckarhausen\, Baden-Württemberg\, 68535\, Deutschland
CATEGORIES:Wahlkampfveranstaltung
ATTACH;FMTTYPE=image/jpeg:https://florian-koenig.info/wp-content/uploads/2022/09/csm_Eduard-Schlaefer-Halle___freizeitbad-Eingang_NE_-_HDW_7bc1c8fc3f.jpg
END:VEVENT
BEGIN:VEVENT
DTSTART;TZID=Europe/Berlin:20221023T140000
DTEND;TZID=Europe/Berlin:20221023T160000
DTSTAMP:20260425T021806
CREATED:20220920T074954Z
LAST-MODIFIED:20221002T084204Z
UID:1912-1666533600-1666540800@florian-koenig.info
SUMMARY:Kaffee. Kuchen. König.
DESCRIPTION:
URL:https://florian-koenig.info/event/kaffee-kuchen-konig/
LOCATION:Schloss Neckarhausen\, Hauptstraße 389\, Edingen-Neckarhausen\, 68535\, Deutschland
CATEGORIES:Wahlkampfveranstaltung
ATTACH;FMTTYPE=image/jpeg:https://florian-koenig.info/wp-content/uploads/2022/09/WhatsApp-Image-2022-09-17-at-18.45.22-3-1-e1663657087689.jpeg
END:VEVENT
BEGIN:VEVENT
DTSTART;TZID=Europe/Berlin:20221022T140000
DTEND;TZID=Europe/Berlin:20221022T160000
DTSTAMP:20260425T021806
CREATED:20220930T101514Z
LAST-MODIFIED:20220930T101518Z
UID:1965-1666447200-1666454400@florian-koenig.info
SUMMARY:Fahrradtour mit Check Up
DESCRIPTION:14 – 15 Uhr kostenloser Check Up der Fahrräder15 – 16 Uhr Fahrradtour durch unserer Gemeinde
URL:https://florian-koenig.info/event/fahrradtour-mit-check-up/
LOCATION:Fischkinderstube\, Fischkinderstube\, Edingen-Neckarhausen\, Baden-Württemberg\, 68535
END:VEVENT
BEGIN:VEVENT
DTSTART;TZID=Europe/Berlin:20221021T180000
DTEND;TZID=Europe/Berlin:20221021T200000
DTSTAMP:20260425T021806
CREATED:20220930T101235Z
LAST-MODIFIED:20220930T101238Z
UID:1961-1666375200-1666382400@florian-koenig.info
SUMMARY:Vereine. Ehrenamt. Dialog.
DESCRIPTION:
URL:https://florian-koenig.info/event/vereine-ehrenamt-dialog/
LOCATION:Friedrichshof\, Anna-Bender-Str. 25\, Edingen-Neckarhausen\, Baden-Württemberg\, 68535\, Deutschland
END:VEVENT
BEGIN:VEVENT
DTSTART;TZID=Europe/Berlin:20221018T190000
DTEND;TZID=Europe/Berlin:20221018T210000
DTSTAMP:20260425T021806
CREATED:20220930T100915Z
LAST-MODIFIED:20220930T100949Z
UID:1957-1666119600-1666126800@florian-koenig.info
SUMMARY:Business. After. Work
DESCRIPTION:Nach der Arbeit ist vor der Wahl!
URL:https://florian-koenig.info/event/business-after-work/
LOCATION:Auto METZ\, Mannheimer Str. 80\, Edingen-Necakrhausen\, Baden-Württemberg\, 68535\, Deutschland
END:VEVENT
BEGIN:VEVENT
DTSTART;TZID=Europe/Berlin:20221016T140000
DTEND;TZID=Europe/Berlin:20221016T160000
DTSTAMP:20260425T021806
CREATED:20220920T074602Z
LAST-MODIFIED:20220920T083941Z
UID:1908-1665928800-1665936000@florian-koenig.info
SUMMARY:Kaffee. Kuchen. König.
DESCRIPTION:
URL:https://florian-koenig.info/event/kaffee-kuchen-koenig-2/
LOCATION:Messplatz\, Messplatz\, Edingen\, Edingen-Neckarhausen\, 68535\, Deutschland
CATEGORIES:Wahlkampfveranstaltung
ATTACH;FMTTYPE=image/jpeg:https://florian-koenig.info/wp-content/uploads/2022/09/WhatsApp-Image-2022-09-17-at-18.45.22-3-1-e1663657087689.jpeg
END:VEVENT
BEGIN:VEVENT
DTSTART;TZID=Europe/Berlin:20221009T110000
DTEND;TZID=Europe/Berlin:20221009T140000
DTSTAMP:20260425T021806
CREATED:20220911T091846Z
LAST-MODIFIED:20220921T063622Z
UID:1748-1665313200-1665324000@florian-koenig.info
SUMMARY:Weißwurst-Frühschoppen der CDU
DESCRIPTION:Auch in diesem Jahr findet der traditionelle Weißwurst-Frühschoppen mit allerlei Köstlichkeiten für Groß und Klein\, beim Apfel-Schneider im Ortsteil Edingen\, statt.Seien Sie\, Ihre Familie und Freunde\, herzlich eingeladen um zusammen mit unserem Bürgermeisterkandidaten\, Freunden\, Bekannten und Mitgliedern der örtlichen CDU\, gemeinsam in familiärer Atmosphäre zu speisen.
URL:https://florian-koenig.info/event/weisswurst-fruehschoppen-der-cdu/
LOCATION:Der Apfel Schneider\, Grenzhöfer Str. 60\, Edingen-Neckarhausen\, 68535
CATEGORIES:Veranstaltungen die ich besuche
ATTACH;FMTTYPE=image/jpeg:https://florian-koenig.info/wp-content/uploads/2022/09/weisswurst.jpg
END:VEVENT
BEGIN:VEVENT
DTSTART;TZID=Europe/Berlin:20221002T120000
DTEND;TZID=Europe/Berlin:20221002T150000
DTSTAMP:20260425T021806
CREATED:20220930T095925Z
LAST-MODIFIED:20220930T100949Z
UID:1953-1664712000-1664722800@florian-koenig.info
SUMMARY:Edinger-Kerwe
DESCRIPTION:Kleiner Infostand für alle Interessierten inkl. Glühwein und Kinderpunsch.
URL:https://florian-koenig.info/event/edinger-kerwe/
LOCATION:Rathausstraße 9\, Rathausstraße 9\, Edingen-Neckarhausen\, Baden-Württemberg\, 68535\, Deutschland
END:VEVENT
BEGIN:VEVENT
DTSTART;TZID=Europe/Berlin:20220924T140000
DTEND;TZID=Europe/Berlin:20220924T160000
DTSTAMP:20260425T021806
CREATED:20220920T063857Z
LAST-MODIFIED:20220920T084002Z
UID:1888-1664028000-1664035200@florian-koenig.info
SUMMARY:Kaffee. Kuchen. König.
DESCRIPTION:
URL:https://florian-koenig.info/event/kaffee-kuchen-koenig/
LOCATION:Auto-Trezza KFZ-Werkstatt\, Platanenstraße 11\, Edingen-Neckarhausen\, Baden-Württemberg\, 68535\, Deutschland
CATEGORIES:Wahlkampfveranstaltung
ATTACH;FMTTYPE=image/jpeg:https://florian-koenig.info/wp-content/uploads/2022/09/WhatsApp-Image-2022-09-17-at-18.45.22-3-1-e1663657087689.jpeg
END:VEVENT
END:VCALENDAR